BEGIN:VCALENDAR
PRODID:NingEventWidget-v1
VERSION:2.0
METHOD:PUBLISH
BEGIN:VEVENT
UID:6468473:Event:133005
DTSTAMP:20260421T182407Z
SUMMARY:V CONGRESO INTERNACIONAL DE EXTENSIÓN RURAL
DESCRIPTION:Amigo extensionista de América Latina y el Caribe: cordia
 lmente invitado a participar en el V Congreso Internacional de Extensi
 ón Rural: \nhttps://observatorioruralunisalle.com/congreso-extension
 -rural/ ;\n\n\nPara obtener más información, visita https://consorc
 ioandino.ning.com/events/v-congreso-internacional-de-extensi-n-rural
DTSTART:20221025T190000Z
DTEND:20221028T230000Z
CATEGORIES:virtual, -, sin, nigún, costo
LOCATION:Centro base: Programa Ingeniería Agronómica UNISALLE-YOPAL
WEBSITE:https://observatorioruralunisalle.com/congreso-extension-rural
 /
URL:https://observatorioruralunisalle.com/congreso-extension-rural/
CONTACT:3213578787
ORGANIZER;CN="Santiago Manuel Sáenz Torres":https://consorcioandino.n
 ing.com/profile/SantiagoManuelSaenzTorres823
ATTACH;FMTTYPE="image/jpeg":
ATTENDEE;ROLE=REQ-PARTICIPANT;PARTSTAT=ACCEPTED;RSVP=TRUE;CN="Santiago
  Manuel Sáenz Torres":https://consorcioandino.ning.com/profile/Santia
 goManuelSaenzTorres823
END:VEVENT
END:VCALENDAR
